BEGIN:VCALENDAR
VERSION:2.0
PRODID:-//Om Seva Sangathan Trust - ECPv6.13.2.1//NONSGML v1.0//EN
CALSCALE:GREGORIAN
METHOD:PUBLISH
X-WR-CALNAME:Om Seva Sangathan Trust
X-ORIGINAL-URL:https://omsevasangathantrust.org
X-WR-CALDESC:Events for Om Seva Sangathan Trust
REFRESH-INTERVAL;VALUE=DURATION:PT1H
X-Robots-Tag:noindex
X-PUBLISHED-TTL:PT1H
BEGIN:VTIMEZONE
TZID:UTC
BEGIN:STANDARD
TZOFFSETFROM:+0000
TZOFFSETTO:+0000
TZNAME:UTC
DTSTART:20240101T000000
END:STANDARD
END:VTIMEZONE
BEGIN:VEVENT
DTSTART;TZID=UTC:20240122T150000
DTEND;TZID=UTC:20240122T170000
DTSTAMP:20260423T162257
CREATED:20210317T033125Z
LAST-MODIFIED:20240117T101138Z
UID:518-1705935600-1705942800@omsevasangathantrust.org
SUMMARY:Shobhayatra by Ayodhya shree ram pran pratishtha
DESCRIPTION:Om seva sangathan trust ayojit shree ram shobha yatra is soham bungalow to jiv daya madhuli
URL:https://omsevasangathantrust.org/event/shobhayatra-by-ayodhya-shree-ram-pran-pratishtha/
LOCATION:ahmedabad\, Soham banglow\, ahmedabad\, gujarat\, 382350\, India
CATEGORIES:Shobhayatra
ATTACH;FMTTYPE=image/jpeg:https://omsevasangathantrust.org/wp-content/uploads/2021/03/WhatsApp-Image-2024-01-16-at-10.21.56_e8f18dc5.jpg
END:VEVENT
END:VCALENDAR